BEGIN:VCALENDAR
VERSION:2.0
PRODID:-//Manhattan Community Board 1 - ECPv6.15.20//NONSGML v1.0//EN
CALSCALE:GREGORIAN
METHOD:PUBLISH
X-ORIGINAL-URL:https://manhattancb1.cityofnewyork.us
X-WR-CALDESC:Events for Manhattan Community Board 1
REFRESH-INTERVAL;VALUE=DURATION:PT1H
X-Robots-Tag:noindex
X-PUBLISHED-TTL:PT1H
BEGIN:VTIMEZONE
TZID:America/New_York
BEGIN:DAYLIGHT
TZOFFSETFROM:-0500
TZOFFSETTO:-0400
TZNAME:EDT
DTSTART:20230312T070000
END:DAYLIGHT
BEGIN:STANDARD
TZOFFSETFROM:-0400
TZOFFSETTO:-0500
TZNAME:EST
DTSTART:20231105T060000
END:STANDARD
BEGIN:DAYLIGHT
TZOFFSETFROM:-0500
TZOFFSETTO:-0400
TZNAME:EDT
DTSTART:20240310T070000
END:DAYLIGHT
BEGIN:STANDARD
TZOFFSETFROM:-0400
TZOFFSETTO:-0500
TZNAME:EST
DTSTART:20241103T060000
END:STANDARD
BEGIN:DAYLIGHT
TZOFFSETFROM:-0500
TZOFFSETTO:-0400
TZNAME:EDT
DTSTART:20250309T070000
END:DAYLIGHT
BEGIN:STANDARD
TZOFFSETFROM:-0400
TZOFFSETTO:-0500
TZNAME:EST
DTSTART:20251102T060000
END:STANDARD
BEGIN:DAYLIGHT
TZOFFSETFROM:-0500
TZOFFSETTO:-0400
TZNAME:EDT
DTSTART:20260308T070000
END:DAYLIGHT
BEGIN:STANDARD
TZOFFSETFROM:-0400
TZOFFSETTO:-0500
TZNAME:EST
DTSTART:20261101T060000
END:STANDARD
BEGIN:DAYLIGHT
TZOFFSETFROM:-0500
TZOFFSETTO:-0400
TZNAME:EDT
DTSTART:20270314T070000
END:DAYLIGHT
BEGIN:STANDARD
TZOFFSETFROM:-0400
TZOFFSETTO:-0500
TZNAME:EST
DTSTART:20271107T060000
END:STANDARD
END:VTIMEZONE
BEGIN:VEVENT
DTSTART;TZID=America/New_York:20260324T180000
DTEND;TZID=America/New_York:20260324T210000
DTSTAMP:20260425T190336
CREATED:20260126T201754Z
LAST-MODIFIED:20260212T194605Z
UID:10000086-1774375200-1774386000@manhattancb1.cityofnewyork.us
SUMMARY:March 2026 CB 1’s Monthly Board Meeting
DESCRIPTION:We have returned back to in-person meetings; the public is encouraged to join remotely due to acute capacity constraints. \nIn Person Location\n\nManhattan Borough President’s Office \n1 Centre Street\, 19th Floor – Southside \nNew York\, NY 10007 \nJoin Remote Meeting \nFull Board Meeting Agendas \n \n\nPublic Hearing (7:00 PM – 7:15 PM)\nTopic: TBD
URL:https://manhattancb1.cityofnewyork.us/event/february-cb-1s-monthly-board-meeting-2/
LOCATION:Community Board Office – Conference Room\, 1 Centre Street\, 2202A-North\, New York\, NY\, 10007\, United States
END:VEVENT
BEGIN:VEVENT
DTSTART;TZID=America/New_York:20260224T180000
DTEND;TZID=America/New_York:20260224T210000
DTSTAMP:20260425T190336
CREATED:20260212T200438Z
LAST-MODIFIED:20260212T200700Z
UID:10000146-1771956000-1771966800@manhattancb1.cityofnewyork.us
SUMMARY:February 2026 CB 1’s Monthly Board Meeting
DESCRIPTION:We have returned back to in-person meetings; the public is encouraged to join remotely due to acute capacity constraints. \nIn Person Location\n\nManhattan Borough President’s Office \n1 Centre Street\, 19th Floor – Southside \nNew York\, NY 10007 \nJoin Remote Meeting \nFull Board Meeting Agendas \n \n\nPublic Hearing (7:00 PM – 7:15 PM)\nTopic: TBD
URL:https://manhattancb1.cityofnewyork.us/event/april-2026-cb-1s-monthly-board-meeting-2/
LOCATION:Community Board Office – Conference Room\, 1 Centre Street\, 2202A-North\, New York\, NY\, 10007\, United States
END:VEVENT
BEGIN:VEVENT
DTSTART;TZID=America/New_York:20260224T163000
DTEND;TZID=America/New_York:20260224T173000
DTSTAMP:20260425T190336
CREATED:20260212T200604Z
LAST-MODIFIED:20260220T184044Z
UID:10000147-1771950600-1771954200@manhattancb1.cityofnewyork.us
SUMMARY:Personnel Committee
DESCRIPTION:We have returned back to in-person meetings; the public is encouraged to join remotely due to acute capacity constraints. \nIn Person Location\n\nManhattan Borough President’s Office \n1 Centre Street\, 19th Floor – Southside \nNew York\, NY 10007 \n\n\n 	Executive Session (Closed to the public)\n\n 
URL:https://manhattancb1.cityofnewyork.us/event/community-board-101-2/
LOCATION:Community Board Office – Conference Room\, 1 Centre Street\, 2202A-North\, New York\, NY\, 10007\, United States
END:VEVENT
BEGIN:VEVENT
DTSTART;TZID=America/New_York:20250325T180000
DTEND;TZID=America/New_York:20250325T210000
DTSTAMP:20260425T190336
CREATED:20250220T174554Z
LAST-MODIFIED:20250220T174554Z
UID:10000083-1742925600-1742936400@manhattancb1.cityofnewyork.us
SUMMARY:March CB 1’s Monthly Board Meeting
DESCRIPTION:We have returned back to in-person meetings; the public is encouraged to join remotely due to acute capacity constraints. \nIn Person Location\n\nManhattan Borough Presidents Office \n1 Centre Street\, 19th Floor – Southside \nNew York\, NY 10007 \nJoin Remote Meeting \nFull Board Meeting Agendas \n \n\n 
URL:https://manhattancb1.cityofnewyork.us/event/march-cb-1s-monthly-board-meeting/
LOCATION:Community Board Office – Conference Room\, 1 Centre Street\, 2202A-North\, New York\, NY\, 10007\, United States
END:VEVENT
BEGIN:VEVENT
DTSTART;TZID=America/New_York:20250225T180000
DTEND;TZID=America/New_York:20250225T210000
DTSTAMP:20260425T190336
CREATED:20250211T213211Z
LAST-MODIFIED:20250211T213351Z
UID:10000070-1740506400-1740517200@manhattancb1.cityofnewyork.us
SUMMARY:February CB 1’s Monthly Board Meeting
DESCRIPTION:We have returned back to in-person meetings; the public is encouraged to join remotely due to acute capacity constraints. \nIn Person Location\n\nManhattan Borough Presidents Office \n1 Centre Street\, 19th Floor – Southside \nNew York\, NY 10007 \nJoin Remote Meeting \nFull Board Meeting Agendas \n \n\n 
URL:https://manhattancb1.cityofnewyork.us/event/february-cb-1s-monthly-board-meeting/
LOCATION:Community Board Office – Conference Room\, 1 Centre Street\, 2202A-North\, New York\, NY\, 10007\, United States
END:VEVENT
BEGIN:VEVENT
DTSTART;TZID=America/New_York:20250225T173000
DTEND;TZID=America/New_York:20250225T180000
DTSTAMP:20260425T190336
CREATED:20260212T194920Z
LAST-MODIFIED:20260212T194920Z
UID:10000144-1740504600-1740506400@manhattancb1.cityofnewyork.us
SUMMARY:Community Board 101
DESCRIPTION:We have returned back to in-person meetings; the public is encouraged to join remotely due to acute capacity constraints. \nIn Person Location\n\nManhattan Borough Presidents Office \n1 Centre Street\, 19th Floor – Southside \nNew York\, NY 10007 \nJoin Remote Meeting \n \n\n \n\n 
URL:https://manhattancb1.cityofnewyork.us/event/community-board-101/
LOCATION:Community Board Office – Conference Room\, 1 Centre Street\, 2202A-North\, New York\, NY\, 10007\, United States
END:VEVENT
BEGIN:VEVENT
DTSTART;TZID=America/New_York:20250128T180000
DTEND;TZID=America/New_York:20250128T210000
DTSTAMP:20260425T190336
CREATED:20250113T155245Z
LAST-MODIFIED:20250211T213430Z
UID:10000056-1738087200-1738098000@manhattancb1.cityofnewyork.us
SUMMARY:January CB 1’s Monthly Board Meeting
DESCRIPTION:We have returned back to in-person meetings; the public is encouraged to join remotely due to acute capacity constraints. \nIn Person Location\n\nManhattan Borough President’s Office \n1 Centre Street\, 19th Floor Southside \nNew York\, NY 10007 \nJoin Remote Meeting \nFull Board Meeting Agendas \n \n\n 
URL:https://manhattancb1.cityofnewyork.us/event/january-cb-1s-monthly-board-meeting/
LOCATION:Community Board Office – Conference Room\, 1 Centre Street\, 2202A-North\, New York\, NY\, 10007\, United States
END:VEVENT
BEGIN:VEVENT
DTSTART;TZID=America/New_York:20250123T180000
DTEND;TZID=America/New_York:20250123T210000
DTSTAMP:20260425T190336
CREATED:20250113T155215Z
LAST-MODIFIED:20250114T214709Z
UID:10000055-1737655200-1737666000@manhattancb1.cityofnewyork.us
SUMMARY:Executive Committee
DESCRIPTION:We have returned back to in-person meetings; the public is encouraged to join remotely due to acute capacity constraints. \nIn Person Location\n\nCommunity Board Office – Conference Room \n1 Centre Street\, 2202A-North \nNew York\, NY 10007 \nJoin Remote Meeting \nCommittee Meeting Agendas \n \n\n 
URL:https://manhattancb1.cityofnewyork.us/event/executive-committee-3/
LOCATION:Community Board Office – Conference Room\, 1 Centre Street\, 2202A-North\, New York\, NY\, 10007\, United States
END:VEVENT
BEGIN:VEVENT
DTSTART;TZID=America/New_York:20250121T180000
DTEND;TZID=America/New_York:20250121T210000
DTSTAMP:20260425T190336
CREATED:20250113T155151Z
LAST-MODIFIED:20250115T171342Z
UID:10000054-1737482400-1737493200@manhattancb1.cityofnewyork.us
SUMMARY:Waterfront\, Parks & Cultural Committee
DESCRIPTION:We have returned back to in-person meetings; the public is encouraged to join remotely due to acute capacity constraints. \nIn Person Location\n\nCommunity Board Office – Conference Room \n1 Centre Street\, 2202A-North \nNew York\, NY 10007 \nJoin Remote Meeting \nCommittee Meeting Agendas \n \n\n 
URL:https://manhattancb1.cityofnewyork.us/event/waterfront-parks-cultural-committee-4/
LOCATION:Community Board Office – Conference Room\, 1 Centre Street\, 2202A-North\, New York\, NY\, 10007\, United States
END:VEVENT
BEGIN:VEVENT
DTSTART;VALUE=DATE:20250120
DTEND;VALUE=DATE:20250121
DTSTAMP:20260425T190336
CREATED:20250113T155117Z
LAST-MODIFIED:20250113T170758Z
UID:10000052-1737331200-1737417599@manhattancb1.cityofnewyork.us
SUMMARY:Office Closed - Martin Luther King Jr. Day
DESCRIPTION: \n\n 
URL:https://manhattancb1.cityofnewyork.us/event/office-closed-martin-luther-king-jr-day/
LOCATION:Community Board Office – Conference Room\, 1 Centre Street\, 2202A-North\, New York\, NY\, 10007\, United States
END:VEVENT
BEGIN:VEVENT
DTSTART;TZID=America/New_York:20250116T180000
DTEND;TZID=America/New_York:20250116T210000
DTSTAMP:20260425T190336
CREATED:20250113T155035Z
LAST-MODIFIED:20250116T192714Z
UID:10000051-1737050400-1737061200@manhattancb1.cityofnewyork.us
SUMMARY:Environmental Protection Committee
DESCRIPTION:We have returned back to in-person meetings; the public is encouraged to join remotely due to acute capacity constraints. \nIn Person Location\n\nCommunity Board Office – Conference Room \n1 Centre Street\, 2202A-North \nNew York\, NY 10007 \nJoin Remote Meeting \nCommittee Meeting Agendas \n \n\n 
URL:https://manhattancb1.cityofnewyork.us/event/environmental-protection-committee-4/
LOCATION:Community Board Office – Conference Room\, 1 Centre Street\, 2202A-North\, New York\, NY\, 10007\, United States
END:VEVENT
BEGIN:VEVENT
DTSTART;TZID=America/New_York:20250115T180000
DTEND;TZID=America/New_York:20250115T210000
DTSTAMP:20260425T190336
CREATED:20250113T155013Z
LAST-MODIFIED:20250115T171524Z
UID:10000050-1736964000-1736974800@manhattancb1.cityofnewyork.us
SUMMARY:Quality of Life\, Health\, Housing & Human Services  Committee
DESCRIPTION:We have returned back to in-person meetings; the public is encouraged to join remotely due to acute capacity constraints. \nIn Person Location\n\nCommunity Board Office – Conference Room \n1 Centre Street\, 2202A-North \nNew York\, NY 10007 \nJoin Remote Meeting \nCommittee Meeting Agendas \n \n\n 
URL:https://manhattancb1.cityofnewyork.us/event/quality-of-life-health-housing-human-services-committee-4/
LOCATION:Community Board Office – Conference Room\, 1 Centre Street\, 2202A-North\, New York\, NY\, 10007\, United States
END:VEVENT
BEGIN:VEVENT
DTSTART;TZID=America/New_York:20250114T180000
DTEND;TZID=America/New_York:20250114T210000
DTSTAMP:20260425T190336
CREATED:20250113T154949Z
LAST-MODIFIED:20250115T171552Z
UID:10000049-1736877600-1736888400@manhattancb1.cityofnewyork.us
SUMMARY:Youth & Education Committee
DESCRIPTION:We have returned back to in-person meetings; the public is encouraged to join remotely due to acute capacity constraints. \nIn Person Location\n\nCommunity Board Office – Conference Room \n1 Centre Street\, 2202A-North \nNew York\, NY 10007 \nJoin Remote Meeting \nCommittee Meeting Agendas \n \n\n 
URL:https://manhattancb1.cityofnewyork.us/event/youth-education-committee-4/
LOCATION:Community Board Office – Conference Room\, 1 Centre Street\, 2202A-North\, New York\, NY\, 10007\, United States
END:VEVENT
BEGIN:VEVENT
DTSTART;TZID=America/New_York:20250113T180000
DTEND;TZID=America/New_York:20250113T210000
DTSTAMP:20260425T190336
CREATED:20250113T154915Z
LAST-MODIFIED:20250115T171618Z
UID:10000048-1736791200-1736802000@manhattancb1.cityofnewyork.us
SUMMARY:Land Use\, Zoning & Economic Development Committee
DESCRIPTION:We have returned back to in-person meetings; the public is encouraged to join remotely due to acute capacity constraints. \nIn Person Location\n\nCommunity Board Office – Conference Room \n1 Centre Street\, 2202A-North \nNew York\, NY 10007 \nJoin Remote Meeting \nCommittee Meeting Agendas \n \n\n 
URL:https://manhattancb1.cityofnewyork.us/event/land-use-zoning-economic-development-committee-4/
LOCATION:Community Board Office – Conference Room\, 1 Centre Street\, 2202A-North\, New York\, NY\, 10007\, United States
END:VEVENT
BEGIN:VEVENT
DTSTART;TZID=America/New_York:20250109T180000
DTEND;TZID=America/New_York:20250109T210000
DTSTAMP:20260425T190336
CREATED:20250113T154846Z
LAST-MODIFIED:20250115T171647Z
UID:10000047-1736445600-1736456400@manhattancb1.cityofnewyork.us
SUMMARY:Landmarks & Preservation Committee
DESCRIPTION:We have returned back to in-person meetings; the public is encouraged to join remotely due to acute capacity constraints. \nIn Person Location\n\nCommunity Board Office – Conference Room \n1 Centre Street\, 2202A-North \nNew York\, NY 10007 \nJoin Remote Meeting \nCommittee Meeting Agendas \n \n\n 
URL:https://manhattancb1.cityofnewyork.us/event/landmarks-preservation-committee-4/
LOCATION:Community Board Office – Conference Room\, 1 Centre Street\, 2202A-North\, New York\, NY\, 10007\, United States
END:VEVENT
BEGIN:VEVENT
DTSTART;TZID=America/New_York:20250108T180000
DTEND;TZID=America/New_York:20250108T210000
DTSTAMP:20260425T190336
CREATED:20250113T154735Z
LAST-MODIFIED:20250115T171709Z
UID:10000046-1736359200-1736370000@manhattancb1.cityofnewyork.us
SUMMARY:Licensing & Permits Committee
DESCRIPTION:We have returned back to in-person meetings; the public is encouraged to join remotely due to acute capacity constraints. \nIn Person Location\n\nCommunity Board Office – Conference Room \n1 Centre Street\, 2202A-North \nNew York\, NY 10007 \nJoin Remote Meeting \nCommittee Meeting Agendas \n \n\n 
URL:https://manhattancb1.cityofnewyork.us/event/licensing-permits-committee-4/
LOCATION:Community Board Office – Conference Room\, 1 Centre Street\, 2202A-North\, New York\, NY\, 10007\, United States
END:VEVENT
BEGIN:VEVENT
DTSTART;TZID=America/New_York:20250107T180000
DTEND;TZID=America/New_York:20250107T210000
DTSTAMP:20260425T190336
CREATED:20250109T182939Z
LAST-MODIFIED:20250115T171734Z
UID:10000045-1736272800-1736283600@manhattancb1.cityofnewyork.us
SUMMARY:Transportation & Street Activity Permits Committee
DESCRIPTION:We have returned back to in-person meetings; the public is encouraged to join remotely due to acute capacity constraints. \nIn Person Location\n\nCommunity Board Office – Conference Room \n1 Centre Street\, 2202A-North \nNew York\, NY 10007 \nJoin Remote Meeting \nCommittee Meeting Agendas \n \n\n 
URL:https://manhattancb1.cityofnewyork.us/event/transportation-street-activity-permits-committee-4/
LOCATION:Community Board Office – Conference Room\, 1 Centre Street\, 2202A-North\, New York\, NY\, 10007\, United States
END:VEVENT
BEGIN:VEVENT
DTSTART;TZID=America/New_York:20241219T180000
DTEND;TZID=America/New_York:20241219T210000
DTSTAMP:20260425T190336
CREATED:20250109T163929Z
LAST-MODIFIED:20250109T163929Z
UID:10000043-1734631200-1734642000@manhattancb1.cityofnewyork.us
SUMMARY:CB 1 Monthly Meeting Test 2
DESCRIPTION:We have returned back to in-person meetings; the public is encouraged to join remotely due to acute capacity constraints.\n\nIn Person Location Community Board Office – Conference Room\n\n1 Centre Street\, 2202A-North\n\nNew York\, NY 10007\n\nLive Remote Meeting\n\nhttps://live.mcb1.nyc\n\nMeeting Agenda\n\nhttps://manhattancb1.cityofnewyork.us/meetings/full-board-meetings/\n\n 
URL:https://manhattancb1.cityofnewyork.us/event/cb-1-monthly-meeting-test-2/
LOCATION:Community Board Office – Conference Room\, 1 Centre Street\, 2202A-North\, New York\, NY\, 10007\, United States
END:VEVENT
BEGIN:VEVENT
DTSTART;TZID=America/New_York:20241219T180000
DTEND;TZID=America/New_York:20241219T210000
DTSTAMP:20260425T190336
CREATED:20241010T150013Z
LAST-MODIFIED:20241010T150047Z
UID:10000006-1734631200-1734642000@manhattancb1.cityofnewyork.us
SUMMARY:CB 1 Monthly Meeting
DESCRIPTION:We have returned back to in-person meetings; the public is encouraged to join remotely due to acute capacity constraints.\n\nIn Person Location Community Board Office – Conference Room\n\n1 Centre Street\, 2202A-North\n\nNew York\, NY 10007\n\nLive Remote Meeting\n\nhttps://live.mcb1.nyc\n\nMeeting Agenda\n\nhttps://manhattancb1.cityofnewyork.us/meetings/full-board-meetings/\n\n 
URL:https://manhattancb1.cityofnewyork.us/event/cb-1-monthly-meeting-3/
LOCATION:Community Board Office – Conference Room\, 1 Centre Street\, 2202A-North\, New York\, NY\, 10007\, United States
END:VEVENT
BEGIN:VEVENT
DTSTART;TZID=America/New_York:20241218T180000
DTEND;TZID=America/New_York:20241218T210000
DTSTAMP:20260425T190336
CREATED:20241010T184354Z
LAST-MODIFIED:20241010T184354Z
UID:10000032-1734544800-1734555600@manhattancb1.cityofnewyork.us
SUMMARY:Quality of Life\, Health\, Housing & Human Services Committee
DESCRIPTION:We have returned back to in-person meetings; the public is encouraged to join remotely due to acute capacity constraints. \nIn Person Location\nCommunity Board Office – Conference Room \n1 Centre Street\, 2202A-North \nNew York\, NY 10007 \nLive Remote Meeting \nhttps://live.mcb1.nyc \nCommittee Meeting Agendas \nhttps://manhattancb1.cityofnewyork.us/meetings/committees-meetings/ \n 
URL:https://manhattancb1.cityofnewyork.us/event/quality-of-life-health-housing-human-services-committee-3/
LOCATION:Community Board Office – Conference Room\, 1 Centre Street\, 2202A-North\, New York\, NY\, 10007\, United States
END:VEVENT
BEGIN:VEVENT
DTSTART;TZID=America/New_York:20241217T180000
DTEND;TZID=America/New_York:20241217T210000
DTSTAMP:20260425T190336
CREATED:20241010T183452Z
LAST-MODIFIED:20241010T183518Z
UID:10000024-1734458400-1734469200@manhattancb1.cityofnewyork.us
SUMMARY:Waterfront\, Parks & Cultural Committee
DESCRIPTION:We have returned back to in-person meetings; the public is encouraged to join remotely due to acute capacity constraints. \nIn Person Location\nCommunity Board Office – Conference Room \n1 Centre Street\, 2202A-North \nNew York\, NY 10007 \nLive Remote Meeting \nhttps://live.mcb1.nyc \nCommittee Meeting Agendas \nhttps://manhattancb1.cityofnewyork.us/meetings/committees-meetings/ \n 
URL:https://manhattancb1.cityofnewyork.us/event/waterfront-parks-cultural-committee-3/
LOCATION:Community Board Office – Conference Room\, 1 Centre Street\, 2202A-North\, New York\, NY\, 10007\, United States
END:VEVENT
BEGIN:VEVENT
DTSTART;TZID=America/New_York:20241216T180000
DTEND;TZID=America/New_York:20241216T210000
DTSTAMP:20260425T190336
CREATED:20241010T191101Z
LAST-MODIFIED:20241010T191101Z
UID:10000037-1734372000-1734382800@manhattancb1.cityofnewyork.us
SUMMARY:Environmental Protection Committee
DESCRIPTION:We have returned back to in-person meetings; the public is encouraged to join remotely due to acute capacity constraints. \nIn Person Location\nCommunity Board Office – Conference Room \n1 Centre Street\, 2202A-North \nNew York\, NY 10007 \nLive Remote Meeting \nhttps://live.mcb1.nyc \nCommittee Meeting Agendas \nhttps://manhattancb1.cityofnewyork.us/meetings/committees-meetings/ \n 
URL:https://manhattancb1.cityofnewyork.us/event/environmental-protection-committee-3/
LOCATION:Community Board Office – Conference Room\, 1 Centre Street\, 2202A-North\, New York\, NY\, 10007\, United States
END:VEVENT
BEGIN:VEVENT
DTSTART;TZID=America/New_York:20241212T180000
DTEND;TZID=America/New_York:20241212T210000
DTSTAMP:20260425T190336
CREATED:20241010T180347Z
LAST-MODIFIED:20241010T180347Z
UID:10000021-1734026400-1734037200@manhattancb1.cityofnewyork.us
SUMMARY:Landmarks & Preservation Committee
DESCRIPTION:We have returned back to in-person meetings; the public is encouraged to join remotely due to acute capacity constraints. \nIn Person Location\nCommunity Board Office – Conference Room \n1 Centre Street\, 2202A-North \nNew York\, NY 10007 \nLive Remote Meeting \nhttps://live.mcb1.nyc \nCommittee Meeting Agendas \nhttps://manhattancb1.cityofnewyork.us/meetings/committees-meetings/ \n 
URL:https://manhattancb1.cityofnewyork.us/event/landmarks-preservation-committee-3/
LOCATION:Community Board Office – Conference Room\, 1 Centre Street\, 2202A-North\, New York\, NY\, 10007\, United States
END:VEVENT
BEGIN:VEVENT
DTSTART;TZID=America/New_York:20241211T180000
DTEND;TZID=America/New_York:20241211T210000
DTSTAMP:20260425T190336
CREATED:20241010T180001Z
LAST-MODIFIED:20241010T180001Z
UID:10000018-1733940000-1733950800@manhattancb1.cityofnewyork.us
SUMMARY:Licensing & Permits Committee
DESCRIPTION:We have returned back to in-person meetings; the public is encouraged to join remotely due to acute capacity constraints. \nIn Person Location\nCommunity Board Office – Conference Room \n1 Centre Street\, 2202A-North \nNew York\, NY 10007 \nLive Remote Meeting \nhttps://live.mcb1.nyc \nCommittee Meeting Agendas \nhttps://manhattancb1.cityofnewyork.us/meetings/committees-meetings/ \n 
URL:https://manhattancb1.cityofnewyork.us/event/licensing-permits-committee-3/
LOCATION:Community Board Office – Conference Room\, 1 Centre Street\, 2202A-North\, New York\, NY\, 10007\, United States
END:VEVENT
BEGIN:VEVENT
DTSTART;TZID=America/New_York:20241210T180000
DTEND;TZID=America/New_York:20241210T210000
DTSTAMP:20260425T190336
CREATED:20241010T175723Z
LAST-MODIFIED:20241010T175723Z
UID:10000015-1733853600-1733864400@manhattancb1.cityofnewyork.us
SUMMARY:Youth & Education Committee
DESCRIPTION:We have returned back to in-person meetings; the public is encouraged to join remotely due to acute capacity constraints. \nIn Person Location\nCommunity Board Office – Conference Room \n1 Centre Street\, 2202A-North \nNew York\, NY 10007 \nLive Remote Meeting \nhttps://live.mcb1.nyc \nCommittee Meeting Agendas \nhttps://manhattancb1.cityofnewyork.us/meetings/committees-meetings/ \n 
URL:https://manhattancb1.cityofnewyork.us/event/youth-education-committee-3/
LOCATION:Community Board Office – Conference Room\, 1 Centre Street\, 2202A-North\, New York\, NY\, 10007\, United States
END:VEVENT
BEGIN:VEVENT
DTSTART;TZID=America/New_York:20241209T180000
DTEND;TZID=America/New_York:20241209T210000
DTSTAMP:20260425T190336
CREATED:20241009T213442Z
LAST-MODIFIED:20241009T213530Z
UID:10000003-1733767200-1733778000@manhattancb1.cityofnewyork.us
SUMMARY:Land Use\, Zoning & Economic Development Committee
DESCRIPTION:We have returned back to in-person meetings; the public is encouraged to join remotely due to acute capacity constraints. \nIn Person Location\nCommunity Board Office – Conference Room \n1 Centre Street\, 2202A-North \nNew York\, NY 10007 \nLive Remote Meeting \nhttps://live.mcb1.nyc \nCommittee Meeting Agendas \nhttps://manhattancb1.cityofnewyork.us/meetings/committees-meetings/ \n 
URL:https://manhattancb1.cityofnewyork.us/event/land-use-zoning-economic-development-committee-3/
LOCATION:Community Board Office – Conference Room\, 1 Centre Street\, 2202A-North\, New York\, NY\, 10007\, United States
END:VEVENT
BEGIN:VEVENT
DTSTART;TZID=America/New_York:20241205T180000
DTEND;TZID=America/New_York:20241205T210000
DTSTAMP:20260425T190336
CREATED:20241010T150430Z
LAST-MODIFIED:20241010T150507Z
UID:10000009-1733421600-1733432400@manhattancb1.cityofnewyork.us
SUMMARY:Battery Park City Committee
DESCRIPTION:We have returned back to in-person meetings; the public is encouraged to join remotely due to acute capacity constraints. \nIn Person Location\nCommunity Board Office – Conference Room \n1 Centre Street\, 2202A-North \nNew York\, NY 10007 \nLive Remote Meeting \nhttps://live.mcb1.nyc \nCommittee Meeting Agendas \nhttps://manhattancb1.cityofnewyork.us/meetings/committees-meetings/ \n 
URL:https://manhattancb1.cityofnewyork.us/event/battery-park-city-committee-3/
LOCATION:Community Board Office – Conference Room\, 1 Centre Street\, 2202A-North\, New York\, NY\, 10007\, United States
END:VEVENT
BEGIN:VEVENT
DTSTART;TZID=America/New_York:20241204T180000
DTEND;TZID=America/New_York:20241204T210000
DTSTAMP:20260425T190336
CREATED:20241010T175511Z
LAST-MODIFIED:20241010T175511Z
UID:10000012-1733335200-1733346000@manhattancb1.cityofnewyork.us
SUMMARY:Transportation & Street Activity Permits Committee
DESCRIPTION:We have returned back to in-person meetings; the public is encouraged to join remotely due to acute capacity constraints. \nIn Person Location\nCommunity Board Office – Conference Room \n1 Centre Street\, 2202A-North \nNew York\, NY 10007 \nLive Remote Meeting \nhttps://live.mcb1.nyc \nCommittee Meeting Agendas \nhttps://manhattancb1.cityofnewyork.us/meetings/committees-meetings/ \n 
URL:https://manhattancb1.cityofnewyork.us/event/transportation-street-activity-permits-committee-3/
LOCATION:Community Board Office – Conference Room\, 1 Centre Street\, 2202A-North\, New York\, NY\, 10007\, United States
END:VEVENT
BEGIN:VEVENT
DTSTART;TZID=America/New_York:20241125T180000
DTEND;TZID=America/New_York:20241125T210000
DTSTAMP:20260425T190336
CREATED:20241010T145952Z
LAST-MODIFIED:20241031T211452Z
UID:10000005-1732557600-1732568400@manhattancb1.cityofnewyork.us
SUMMARY:CB 1 Monthly Meeting
DESCRIPTION:We have returned back to in-person meetings; the public is encouraged to join remotely due to acute capacity constraints. \nIn Person Location\nCommunity Board Office – Conference Room \n1 Centre Street\, 2202A-North \nNew York\, NY 10007 \nLive Remote Meeting \nhttps://live.mcb1.nyc \n \n\nMeeting Agenda\n\nhttps://manhattancb1.cityofnewyork.us/meetings/full-board-meeting-and-agenda/\n\n 
URL:https://manhattancb1.cityofnewyork.us/event/cb-1-monthly-meeting-2/
LOCATION:Community Board Office – Conference Room\, 1 Centre Street\, 2202A-North\, New York\, NY\, 10007\, United States
END:VEVENT
BEGIN:VEVENT
DTSTART;TZID=America/New_York:20241121T180000
DTEND;TZID=America/New_York:20241121T210000
DTSTAMP:20260425T190336
CREATED:20241010T190851Z
LAST-MODIFIED:20241031T211329Z
UID:10000034-1732212000-1732222800@manhattancb1.cityofnewyork.us
SUMMARY:Executive Committee
DESCRIPTION:We have returned back to in-person meetings; the public is encouraged to join remotely due to acute capacity constraints. \nIn Person Location\nCommunity Board Office – Conference Room \n1 Centre Street\, 2202A-North \nNew York\, NY 10007 \nLive Remote Meeting \nhttps://live.mcb1.nyc \nCommittee Meeting Agendas \nhttps://manhattancb1.cityofnewyork.us/meetings/committee-meetings-and-agendas/ \n 
URL:https://manhattancb1.cityofnewyork.us/event/executive-committee-2/
LOCATION:Community Board Office – Conference Room\, 1 Centre Street\, 2202A-North\, New York\, NY\, 10007\, United States
END:VEVENT
END:VCALENDAR