BEGIN:VCALENDAR
VERSION:2.0
PRODID:-//Manhattan Community Board 1 - ECPv6.15.20//NONSGML v1.0//EN
CALSCALE:GREGORIAN
METHOD:PUBLISH
X-WR-CALNAME:Manhattan Community Board 1
X-ORIGINAL-URL:https://manhattancb1.cityofnewyork.us
X-WR-CALDESC:Events for Manhattan Community Board 1
REFRESH-INTERVAL;VALUE=DURATION:PT1H
X-Robots-Tag:noindex
X-PUBLISHED-TTL:PT1H
BEGIN:VTIMEZONE
TZID:America/New_York
BEGIN:DAYLIGHT
TZOFFSETFROM:-0500
TZOFFSETTO:-0400
TZNAME:EDT
DTSTART:20250309T070000
END:DAYLIGHT
BEGIN:STANDARD
TZOFFSETFROM:-0400
TZOFFSETTO:-0500
TZNAME:EST
DTSTART:20251102T060000
END:STANDARD
BEGIN:DAYLIGHT
TZOFFSETFROM:-0500
TZOFFSETTO:-0400
TZNAME:EDT
DTSTART:20260308T070000
END:DAYLIGHT
BEGIN:STANDARD
TZOFFSETFROM:-0400
TZOFFSETTO:-0500
TZNAME:EST
DTSTART:20261101T060000
END:STANDARD
BEGIN:DAYLIGHT
TZOFFSETFROM:-0500
TZOFFSETTO:-0400
TZNAME:EDT
DTSTART:20270314T070000
END:DAYLIGHT
BEGIN:STANDARD
TZOFFSETFROM:-0400
TZOFFSETTO:-0500
TZNAME:EST
DTSTART:20271107T060000
END:STANDARD
END:VTIMEZONE
BEGIN:VEVENT
DTSTART;TZID=America/New_York:20260507T180000
DTEND;TZID=America/New_York:20260507T210000
DTSTAMP:20260419T190803
CREATED:20260209T202838Z
LAST-MODIFIED:20260323T124400Z
UID:10000120-1778176800-1778187600@manhattancb1.cityofnewyork.us
SUMMARY:Battery Park City Committee
DESCRIPTION:We have returned back to in-person meetings; the public is encouraged to join remotely due to acute capacity constraints. \nIn Person Location\n\nCommunity Board Office – Conference Room \n1 Centre Street\, 2202A-North \nNew York\, NY 10007 \nJoin Remote Meeting \nCommittee Meeting Agendas \n 
URL:https://manhattancb1.cityofnewyork.us/event/battery-park-city-committee-9/
LOCATION:https://live.mcb1.nyc
END:VEVENT
BEGIN:VEVENT
DTSTART;TZID=America/New_York:20260604T180000
DTEND;TZID=America/New_York:20260604T210000
DTSTAMP:20260419T190803
CREATED:20260212T171045Z
LAST-MODIFIED:20260212T171045Z
UID:10000132-1780596000-1780606800@manhattancb1.cityofnewyork.us
SUMMARY:Battery Park City Committee
DESCRIPTION:We have returned back to in-person meetings; the public is encouraged to join remotely due to acute capacity constraints. \nIn Person Location\n\nCommunity Board Office – Conference Room \n1 Centre Street\, 2202A-North \nNew York\, NY 10007 \nJoin Remote Meeting \nCommittee Meeting Agendas \n 
URL:https://manhattancb1.cityofnewyork.us/event/battery-park-city-committee-10/
LOCATION:https://live.mcb1.nyc
END:VEVENT
BEGIN:VEVENT
DTSTART;TZID=America/New_York:20260716T180000
DTEND;TZID=America/New_York:20260716T210000
DTSTAMP:20260419T190803
CREATED:20260410T163526Z
LAST-MODIFIED:20260410T163526Z
UID:10000163-1784224800-1784235600@manhattancb1.cityofnewyork.us
SUMMARY:Battery Park City Committee
DESCRIPTION:We have returned back to in-person meetings; the public is encouraged to join remotely due to acute capacity constraints. \nIn Person Location\n\nCommunity Board Office – Conference Room \n1 Centre Street\, 2202A-North \nNew York\, NY 10007 \nJoin Remote Meeting \nCommittee Meeting Agendas \n 
URL:https://manhattancb1.cityofnewyork.us/event/battery-park-city-committee-11/
LOCATION:https://live.mcb1.nyc
END:VEVENT
END:VCALENDAR