BEGIN:VCALENDAR
VERSION:2.0
PRODID:-//Manhattan Community Board 1 - ECPv6.15.20//NONSGML v1.0//EN
CALSCALE:GREGORIAN
METHOD:PUBLISH
X-WR-CALNAME:Manhattan Community Board 1
X-ORIGINAL-URL:https://manhattancb1.cityofnewyork.us
X-WR-CALDESC:Events for Manhattan Community Board 1
REFRESH-INTERVAL;VALUE=DURATION:PT1H
X-Robots-Tag:noindex
X-PUBLISHED-TTL:PT1H
BEGIN:VTIMEZONE
TZID:America/New_York
BEGIN:DAYLIGHT
TZOFFSETFROM:-0500
TZOFFSETTO:-0400
TZNAME:EDT
DTSTART:20250309T070000
END:DAYLIGHT
BEGIN:STANDARD
TZOFFSETFROM:-0400
TZOFFSETTO:-0500
TZNAME:EST
DTSTART:20251102T060000
END:STANDARD
BEGIN:DAYLIGHT
TZOFFSETFROM:-0500
TZOFFSETTO:-0400
TZNAME:EDT
DTSTART:20260308T070000
END:DAYLIGHT
BEGIN:STANDARD
TZOFFSETFROM:-0400
TZOFFSETTO:-0500
TZNAME:EST
DTSTART:20261101T060000
END:STANDARD
BEGIN:DAYLIGHT
TZOFFSETFROM:-0500
TZOFFSETTO:-0400
TZNAME:EDT
DTSTART:20270314T070000
END:DAYLIGHT
BEGIN:STANDARD
TZOFFSETFROM:-0400
TZOFFSETTO:-0500
TZNAME:EST
DTSTART:20271107T060000
END:STANDARD
END:VTIMEZONE
BEGIN:VEVENT
DTSTART;TZID=America/New_York:20260423T173000
DTEND;TZID=America/New_York:20260423T180000
DTSTAMP:20260422T083138
CREATED:20260327T132159Z
LAST-MODIFIED:20260330T142803Z
UID:10000151-1776965400-1776967200@manhattancb1.cityofnewyork.us
SUMMARY:Street Fairs Committee
DESCRIPTION:We have returned back to in-person meetings; the public is encouraged to join remotely due to acute capacity constraints. \nIn Person Location\n\nCommunity Board Office – Conference Room \n1 Centre Street\, 2202A-North \nNew York\, NY 10007 \nJoin Remote Meeting \nCommittee Meeting Agendas \n\n\n 	Reports by Joe Giovanni Mardi Gras Productions\nUpdate on year to date activity\nPlans for the remainder of 2026\nPlans for holiday market\n\n 
URL:https://manhattancb1.cityofnewyork.us/event/street-fairs-committee/
LOCATION:https://live.mcb1.nyc
END:VEVENT
BEGIN:VEVENT
DTSTART;TZID=America/New_York:20260423T180000
DTEND;TZID=America/New_York:20260423T210000
DTSTAMP:20260422T083138
CREATED:20260209T184002Z
LAST-MODIFIED:20260415T164435Z
UID:10000117-1776967200-1776978000@manhattancb1.cityofnewyork.us
SUMMARY:Executive Committee
DESCRIPTION:We have returned back to in-person meetings; the public is encouraged to join remotely due to acute capacity constraints. \nIn Person Location\n\nCommunity Board Office – Conference Room \n1 Centre Street\, 2202A-North \nNew York\, NY 10007 \nJoin Remote Meeting \nCommittee Meeting Agendas \n\n\n 	Pier 15: DOCKNYC Operator Update – Tara Das – AVP Government & Community Relations; Gustavo Moran -Senior Associate; NYC Economic Development Corporation (EDC) and Don Liola – SVP NY Waterways/DOCKNYC – Discussion and resolution\n 	Outdoor Dining \n\n 	87-89 Greenwich Street\, application for sidewalk cafe for George’s – Resolution\n 	157 Duane Street\, application for roadway cafe for Casa Restaurant – Resolution \n\n\n 	Committee reports and MBP Borough Board updates \n\n 
URL:https://manhattancb1.cityofnewyork.us/event/executive-committee-8/
LOCATION:https://live.mcb1.nyc
END:VEVENT
BEGIN:VEVENT
DTSTART;TZID=America/New_York:20260428T180000
DTEND;TZID=America/New_York:20260428T210000
DTSTAMP:20260422T083138
CREATED:20260209T183821Z
LAST-MODIFIED:20260402T153849Z
UID:10000115-1777399200-1777410000@manhattancb1.cityofnewyork.us
SUMMARY:April 2026 CB 1’s Monthly Board Meeting
DESCRIPTION:We have returned back to in-person meetings; the public is encouraged to join remotely due to acute capacity constraints. \nIn Person Location\n\nManhattan Borough President’s Office \n1 Centre Street\, 19th Floor – Southside \nNew York\, NY 10007 \nJoin Remote Meeting \nFull Board Meeting Agendas \n \n\nPublic Hearing (7:00 PM – 7:15 PM)\n\n\nTopic: Comments on the NYC Council Preliminary Budget Response \n\n 
URL:https://manhattancb1.cityofnewyork.us/event/april-2026-cb-1s-monthly-board-meeting/
LOCATION:Community Board Office – Conference Room\, 1 Centre Street\, 2202A-North\, New York\, NY\, 10007\, United States
END:VEVENT
END:VCALENDAR