BEGIN:VCALENDAR
VERSION:2.0
PRODID:-//Manhattan Community Board 1 - ECPv6.15.20//NONSGML v1.0//EN
CALSCALE:GREGORIAN
METHOD:PUBLISH
X-WR-CALNAME:Manhattan Community Board 1
X-ORIGINAL-URL:https://manhattancb1.cityofnewyork.us
X-WR-CALDESC:Events for Manhattan Community Board 1
REFRESH-INTERVAL;VALUE=DURATION:PT1H
X-Robots-Tag:noindex
X-PUBLISHED-TTL:PT1H
BEGIN:VTIMEZONE
TZID:America/New_York
BEGIN:DAYLIGHT
TZOFFSETFROM:-0500
TZOFFSETTO:-0400
TZNAME:EDT
DTSTART:20250309T070000
END:DAYLIGHT
BEGIN:STANDARD
TZOFFSETFROM:-0400
TZOFFSETTO:-0500
TZNAME:EST
DTSTART:20251102T060000
END:STANDARD
BEGIN:DAYLIGHT
TZOFFSETFROM:-0500
TZOFFSETTO:-0400
TZNAME:EDT
DTSTART:20260308T070000
END:DAYLIGHT
BEGIN:STANDARD
TZOFFSETFROM:-0400
TZOFFSETTO:-0500
TZNAME:EST
DTSTART:20261101T060000
END:STANDARD
BEGIN:DAYLIGHT
TZOFFSETFROM:-0500
TZOFFSETTO:-0400
TZNAME:EDT
DTSTART:20270314T070000
END:DAYLIGHT
BEGIN:STANDARD
TZOFFSETFROM:-0400
TZOFFSETTO:-0500
TZNAME:EST
DTSTART:20271107T060000
END:STANDARD
END:VTIMEZONE
BEGIN:VEVENT
DTSTART;TZID=America/New_York:20260505T180000
DTEND;TZID=America/New_York:20260505T210000
DTSTAMP:20260425T121405
CREATED:20260326T134437Z
LAST-MODIFIED:20260326T134437Z
UID:10000149-1778004000-1778014800@manhattancb1.cityofnewyork.us
SUMMARY:Nominating Committee
DESCRIPTION:We have returned back to in-person meetings; the public is encouraged to join remotely due to acute capacity constraints. \nIn Person Location\n\nCommunity Board Office – Conference Room \n1 Centre Street\, 2202A-North \nNew York\, NY 10007 \nJoin Remote Meeting \nCommittee Meeting Agendas \n \n\n 
URL:https://manhattancb1.cityofnewyork.us/event/nominating-committee/
LOCATION:https://live.mcb1.nyc
END:VEVENT
BEGIN:VEVENT
DTSTART;TZID=America/New_York:20260506T180000
DTEND;TZID=America/New_York:20260506T210000
DTSTAMP:20260425T121405
CREATED:20260209T202812Z
LAST-MODIFIED:20260209T202812Z
UID:10000119-1778090400-1778101200@manhattancb1.cityofnewyork.us
SUMMARY:Transportation & Street Activity Permits  Committee
DESCRIPTION:We have returned back to in-person meetings; the public is encouraged to join remotely due to acute capacity constraints.\nIn Person Location\n\nCommunity Board Office – Conference Room \n1 Centre Street\, 2202A-North \nNew York\, NY 10007 \nJoin Remote Meeting \nCommittee Meeting Agendas \n 
URL:https://manhattancb1.cityofnewyork.us/event/transportation-street-activity-permits-committee-10/
LOCATION:https://live.mcb1.nyc
END:VEVENT
BEGIN:VEVENT
DTSTART;TZID=America/New_York:20260507T180000
DTEND;TZID=America/New_York:20260507T210000
DTSTAMP:20260425T121405
CREATED:20260209T202838Z
LAST-MODIFIED:20260323T124400Z
UID:10000120-1778176800-1778187600@manhattancb1.cityofnewyork.us
SUMMARY:Battery Park City Committee
DESCRIPTION:We have returned back to in-person meetings; the public is encouraged to join remotely due to acute capacity constraints. \nIn Person Location\n\nCommunity Board Office – Conference Room \n1 Centre Street\, 2202A-North \nNew York\, NY 10007 \nJoin Remote Meeting \nCommittee Meeting Agendas \n 
URL:https://manhattancb1.cityofnewyork.us/event/battery-park-city-committee-9/
LOCATION:https://live.mcb1.nyc
END:VEVENT
BEGIN:VEVENT
DTSTART;TZID=America/New_York:20260511T180000
DTEND;TZID=America/New_York:20260511T210000
DTSTAMP:20260425T121405
CREATED:20260209T202901Z
LAST-MODIFIED:20260209T202901Z
UID:10000121-1778522400-1778533200@manhattancb1.cityofnewyork.us
SUMMARY:Land Use\, Zoning & Economic Development Committee
DESCRIPTION:We have returned back to in-person meetings; the public is encouraged to join remotely due to acute capacity constraints. \nIn Person Location\n\nCommunity Board Office – Conference Room \n1 Centre Street\, 2202A-North \nNew York\, NY 10007 \nJoin Remote Meeting \nCommittee Meeting Agendas \n 
URL:https://manhattancb1.cityofnewyork.us/event/land-use-zoning-economic-development-committee-10/
LOCATION:https://live.mcb1.nyc
END:VEVENT
BEGIN:VEVENT
DTSTART;TZID=America/New_York:20260513T180000
DTEND;TZID=America/New_York:20260513T210000
DTSTAMP:20260425T121405
CREATED:20260209T202943Z
LAST-MODIFIED:20260209T202943Z
UID:10000123-1778695200-1778706000@manhattancb1.cityofnewyork.us
SUMMARY:Licensing & Permits Committee
DESCRIPTION:We have returned back to in-person meetings; the public is encouraged to join remotely due to acute capacity constraints. \nIn Person Location\n\nCommunity Board Office – Conference Room \n1 Centre Street\, 2202A-North \nNew York\, NY 10007 \nJoin Remote Meeting \nCommittee Meeting Agendas \n 
URL:https://manhattancb1.cityofnewyork.us/event/licensing-permits-committee-10/
LOCATION:https://live.mcb1.nyc
END:VEVENT
BEGIN:VEVENT
DTSTART;TZID=America/New_York:20260514T180000
DTEND;TZID=America/New_York:20260514T210000
DTSTAMP:20260425T121405
CREATED:20260209T203004Z
LAST-MODIFIED:20260209T203004Z
UID:10000124-1778781600-1778792400@manhattancb1.cityofnewyork.us
SUMMARY:Landmarks & Preservation Committee
DESCRIPTION:We have returned back to in-person meetings; the public is encouraged to join remotely due to acute capacity constraints. \nIn Person Location\n\nCommunity Board Office – Conference Room \n1 Centre Street\, 2202A-North \nNew York\, NY 10007 \nJoin Remote Meeting \nCommittee Meeting Agendas \n 
URL:https://manhattancb1.cityofnewyork.us/event/landmarks-preservation-committee-10/
LOCATION:https://live.mcb1.nyc
END:VEVENT
BEGIN:VEVENT
DTSTART;TZID=America/New_York:20260518T180000
DTEND;TZID=America/New_York:20260518T210000
DTSTAMP:20260425T121405
CREATED:20260209T203022Z
LAST-MODIFIED:20260209T203022Z
UID:10000125-1779127200-1779138000@manhattancb1.cityofnewyork.us
SUMMARY:Environmental Protection Committee
DESCRIPTION:We have returned back to in-person meetings; the public is encouraged to join remotely due to acute capacity constraints. \nIn Person Location\n\nCommunity Board Office – Conference Room \n1 Centre Street\, 2202A-North \nNew York\, NY 10007 \nJoin Remote Meeting \nCommittee Meeting Agendas \n 
URL:https://manhattancb1.cityofnewyork.us/event/environmental-protection-committee-10/
LOCATION:https://live.mcb1.nyc
END:VEVENT
BEGIN:VEVENT
DTSTART;TZID=America/New_York:20260519T180000
DTEND;TZID=America/New_York:20260519T210000
DTSTAMP:20260425T121405
CREATED:20260209T203043Z
LAST-MODIFIED:20260323T124614Z
UID:10000126-1779213600-1779224400@manhattancb1.cityofnewyork.us
SUMMARY:Joint Waterfront\, Parks & Cultural and Youth & Education Committees
DESCRIPTION:We have returned back to in-person meetings; the public is encouraged to join remotely due to acute capacity constraints. \nIn Person Location\n\nCommunity Board Office – Conference Room \n1 Centre Street\, 2202A-North \nNew York\, NY 10007 \nJoin Remote Meeting \nCommittee Meeting Agendas \n 
URL:https://manhattancb1.cityofnewyork.us/event/waterfront-parks-cultural-committee-10/
LOCATION:https://live.mcb1.nyc
END:VEVENT
BEGIN:VEVENT
DTSTART;TZID=America/New_York:20260520T180000
DTEND;TZID=America/New_York:20260520T210000
DTSTAMP:20260425T121405
CREATED:20260209T203107Z
LAST-MODIFIED:20260209T203107Z
UID:10000127-1779300000-1779310800@manhattancb1.cityofnewyork.us
SUMMARY:Quality of Life\, Health\, Housing & Human Services  Committee
DESCRIPTION:We have returned back to in-person meetings; the public is encouraged to join remotely due to acute capacity constraints. \nIn Person Location\n\nCommunity Board Office – Conference Room \n1 Centre Street\, 2202A-North \nNew York\, NY 10007 \nJoin Remote Meeting \nCommittee Meeting Agendas \n \n\n 
URL:https://manhattancb1.cityofnewyork.us/event/quality-of-life-health-housing-human-services-committee-9/
LOCATION:https://live.mcb1.nyc
END:VEVENT
BEGIN:VEVENT
DTSTART;TZID=America/New_York:20260521T180000
DTEND;TZID=America/New_York:20260521T210000
DTSTAMP:20260425T121405
CREATED:20260209T203144Z
LAST-MODIFIED:20260209T203144Z
UID:10000128-1779386400-1779397200@manhattancb1.cityofnewyork.us
SUMMARY:Executive Committee
DESCRIPTION:We have returned back to in-person meetings; the public is encouraged to join remotely due to acute capacity constraints. \nIn Person Location\n\nCommunity Board Office – Conference Room \n1 Centre Street\, 2202A-North \nNew York\, NY 10007 \nJoin Remote Meeting \nCommittee Meeting Agendas \n \n\n 
URL:https://manhattancb1.cityofnewyork.us/event/executive-committee-9/
LOCATION:https://live.mcb1.nyc
END:VEVENT
BEGIN:VEVENT
DTSTART;VALUE=DATE:20260525
DTEND;VALUE=DATE:20260526
DTSTAMP:20260425T121405
CREATED:20260209T203340Z
LAST-MODIFIED:20260209T203340Z
UID:10000130-1779667200-1779753599@manhattancb1.cityofnewyork.us
SUMMARY:Office Closed - Memorial Day
DESCRIPTION:
URL:https://manhattancb1.cityofnewyork.us/event/office-closed-memorial-day/
END:VEVENT
BEGIN:VEVENT
DTSTART;TZID=America/New_York:20260526T180000
DTEND;TZID=America/New_York:20260526T210000
DTSTAMP:20260425T121405
CREATED:20260209T203228Z
LAST-MODIFIED:20260209T203228Z
UID:10000129-1779818400-1779829200@manhattancb1.cityofnewyork.us
SUMMARY:May 2026 CB 1’s Monthly Board Meeting
DESCRIPTION:We have returned back to in-person meetings; the public is encouraged to join remotely due to acute capacity constraints. \nIn Person Location\n\nManhattan Borough President’s Office \n1 Centre Street\, 19th Floor – Southside \nNew York\, NY 10007 \nJoin Remote Meeting \nFull Board Meeting Agendas \n \n\nPublic Hearing (7:00 PM – 7:15 PM)\nTopic: TBD
URL:https://manhattancb1.cityofnewyork.us/event/may-2026-cb-1s-monthly-board-meeting/
LOCATION:Community Board Office – Conference Room\, 1 Centre Street\, 2202A-North\, New York\, NY\, 10007\, United States
END:VEVENT
END:VCALENDAR