BEGIN:VCALENDAR
VERSION:2.0
PRODID:-//Manhattan Community Board 1 - ECPv6.15.20//NONSGML v1.0//EN
CALSCALE:GREGORIAN
METHOD:PUBLISH
X-WR-CALNAME:Manhattan Community Board 1
X-ORIGINAL-URL:https://manhattancb1.cityofnewyork.us
X-WR-CALDESC:Events for Manhattan Community Board 1
REFRESH-INTERVAL;VALUE=DURATION:PT1H
X-Robots-Tag:noindex
X-PUBLISHED-TTL:PT1H
BEGIN:VTIMEZONE
TZID:America/New_York
BEGIN:DAYLIGHT
TZOFFSETFROM:-0500
TZOFFSETTO:-0400
TZNAME:EDT
DTSTART:20240310T070000
END:DAYLIGHT
BEGIN:STANDARD
TZOFFSETFROM:-0400
TZOFFSETTO:-0500
TZNAME:EST
DTSTART:20241103T060000
END:STANDARD
BEGIN:DAYLIGHT
TZOFFSETFROM:-0500
TZOFFSETTO:-0400
TZNAME:EDT
DTSTART:20250309T070000
END:DAYLIGHT
BEGIN:STANDARD
TZOFFSETFROM:-0400
TZOFFSETTO:-0500
TZNAME:EST
DTSTART:20251102T060000
END:STANDARD
BEGIN:DAYLIGHT
TZOFFSETFROM:-0500
TZOFFSETTO:-0400
TZNAME:EDT
DTSTART:20260308T070000
END:DAYLIGHT
BEGIN:STANDARD
TZOFFSETFROM:-0400
TZOFFSETTO:-0500
TZNAME:EST
DTSTART:20261101T060000
END:STANDARD
END:VTIMEZONE
BEGIN:VEVENT
DTSTART;TZID=America/New_York:20250319T180000
DTEND;TZID=America/New_York:20250319T210000
DTSTAMP:20260419T104132
CREATED:20250220T174450Z
LAST-MODIFIED:20250220T174450Z
UID:10000081-1742407200-1742418000@manhattancb1.cityofnewyork.us
SUMMARY:Quality of Life\, Health\, Housing & Human Services  Committee
DESCRIPTION:We have returned back to in-person meetings; the public is encouraged to join remotely due to acute capacity constraints. \nIn Person Location\n\nCommunity Board Office – Conference Room \n1 Centre Street\, 2202A-North \nNew York\, NY 10007 \nJoin Remote Meeting \nCommittee Meeting Agendas \n 
URL:https://manhattancb1.cityofnewyork.us/event/quality-of-life-health-housing-human-services-committee-5/
LOCATION:https://live.mcb1.nyc
END:VEVENT
BEGIN:VEVENT
DTSTART;TZID=America/New_York:20250318T180000
DTEND;TZID=America/New_York:20250318T210000
DTSTAMP:20260419T104132
CREATED:20250220T175051Z
LAST-MODIFIED:20250220T175056Z
UID:10000085-1742320800-1742331600@manhattancb1.cityofnewyork.us
SUMMARY:Waterfront\, Parks & Cultural Committee
DESCRIPTION:We have returned back to in-person meetings; the public is encouraged to join remotely due to acute capacity constraints. \nIn Person Location\n\nCommunity Board Office – Conference Room \n1 Centre Street\, 2202A-North \nNew York\, NY 10007 \nJoin Remote Meeting \nCommittee Meeting Agendas \n 
URL:https://manhattancb1.cityofnewyork.us/event/waterfront-parks-cultural-committee-5/
LOCATION:https://live.mcb1.nyc
END:VEVENT
BEGIN:VEVENT
DTSTART;TZID=America/New_York:20250317T180000
DTEND;TZID=America/New_York:20250317T210000
DTSTAMP:20260419T104132
CREATED:20250220T174206Z
LAST-MODIFIED:20250220T174206Z
UID:10000078-1742234400-1742245200@manhattancb1.cityofnewyork.us
SUMMARY:Environmental Protection Committee
DESCRIPTION:We have returned back to in-person meetings; the public is encouraged to join remotely due to acute capacity constraints. \nIn Person Location\n\nCommunity Board Office – Conference Room \n1 Centre Street\, 2202A-North \nNew York\, NY 10007 \nJoin Remote Meeting \nCommittee Meeting Agendas \n 
URL:https://manhattancb1.cityofnewyork.us/event/environmental-protection-committee-6/
LOCATION:https://live.mcb1.nyc
END:VEVENT
BEGIN:VEVENT
DTSTART;TZID=America/New_York:20250313T180000
DTEND;TZID=America/New_York:20250313T210000
DTSTAMP:20260419T104132
CREATED:20250220T174114Z
LAST-MODIFIED:20250220T174114Z
UID:10000077-1741888800-1741899600@manhattancb1.cityofnewyork.us
SUMMARY:Landmarks & Preservation Committee
DESCRIPTION:We have returned back to in-person meetings; the public is encouraged to join remotely due to acute capacity constraints. \nIn Person Location\n\nCommunity Board Office – Conference Room \n1 Centre Street\, 2202A-North \nNew York\, NY 10007 \nJoin Remote Meeting \nCommittee Meeting Agendas \n 
URL:https://manhattancb1.cityofnewyork.us/event/landmarks-preservation-committee-6/
LOCATION:https://live.mcb1.nyc
END:VEVENT
BEGIN:VEVENT
DTSTART;TZID=America/New_York:20250312T180000
DTEND;TZID=America/New_York:20250312T210000
DTSTAMP:20260419T104132
CREATED:20250220T174001Z
LAST-MODIFIED:20250220T174034Z
UID:10000076-1741802400-1741813200@manhattancb1.cityofnewyork.us
SUMMARY:Licensing & Permits Committee
DESCRIPTION:We have returned back to in-person meetings; the public is encouraged to join remotely due to acute capacity constraints. \nIn Person Location\n\nCommunity Board Office – Conference Room \n1 Centre Street\, 2202A-North \nNew York\, NY 10007 \nJoin Remote Meeting \nCommittee Meeting Agendas \n 
URL:https://manhattancb1.cityofnewyork.us/event/licensing-permits-committee-6/
LOCATION:https://live.mcb1.nyc
END:VEVENT
BEGIN:VEVENT
DTSTART;TZID=America/New_York:20250311T180000
DTEND;TZID=America/New_York:20250311T210000
DTSTAMP:20260419T104132
CREATED:20250220T173931Z
LAST-MODIFIED:20250220T173931Z
UID:10000075-1741716000-1741726800@manhattancb1.cityofnewyork.us
SUMMARY:Youth & Education Committee
DESCRIPTION:We have returned back to in-person meetings; the public is encouraged to join remotely due to acute capacity constraints. \nIn Person Location\n\nCommunity Board Office – Conference Room \n1 Centre Street\, 2202A-North \nNew York\, NY 10007 \nJoin Remote Meeting \nCommittee Meeting Agendas \n 
URL:https://manhattancb1.cityofnewyork.us/event/youth-education-committee-6/
LOCATION:https://live.mcb1.nyc
END:VEVENT
BEGIN:VEVENT
DTSTART;TZID=America/New_York:20250310T180000
DTEND;TZID=America/New_York:20250310T210000
DTSTAMP:20260419T104132
CREATED:20250220T173854Z
LAST-MODIFIED:20250220T173854Z
UID:10000074-1741629600-1741640400@manhattancb1.cityofnewyork.us
SUMMARY:Land Use\, Zoning & Economic Development Committee
DESCRIPTION:We have returned back to in-person meetings; the public is encouraged to join remotely due to acute capacity constraints. \nIn Person Location\n\nCommunity Board Office – Conference Room \n1 Centre Street\, 2202A-North \nNew York\, NY 10007 \nJoin Remote Meeting \nCommittee Meeting Agendas \n 
URL:https://manhattancb1.cityofnewyork.us/event/land-use-zoning-economic-development-committee-6/
LOCATION:https://live.mcb1.nyc
END:VEVENT
BEGIN:VEVENT
DTSTART;TZID=America/New_York:20250306T180000
DTEND;TZID=America/New_York:20250306T210000
DTSTAMP:20260419T104132
CREATED:20250220T173812Z
LAST-MODIFIED:20250220T173812Z
UID:10000073-1741284000-1741294800@manhattancb1.cityofnewyork.us
SUMMARY:Battery Park City Committee
DESCRIPTION:We have returned back to in-person meetings; the public is encouraged to join remotely due to acute capacity constraints. \nIn Person Location\n\nCommunity Board Office – Conference Room \n1 Centre Street\, 2202A-North \nNew York\, NY 10007 \nJoin Remote Meeting \nCommittee Meeting Agendas \n 
URL:https://manhattancb1.cityofnewyork.us/event/battery-park-city-committee-5/
LOCATION:https://live.mcb1.nyc
END:VEVENT
BEGIN:VEVENT
DTSTART;TZID=America/New_York:20250305T180000
DTEND;TZID=America/New_York:20250305T210000
DTSTAMP:20260419T104132
CREATED:20250220T173738Z
LAST-MODIFIED:20250220T173738Z
UID:10000072-1741197600-1741208400@manhattancb1.cityofnewyork.us
SUMMARY:Transportation & Street Activity Permits  Committee
DESCRIPTION:We have returned back to in-person meetings; the public is encouraged to join remotely due to acute capacity constraints. \nIn Person Location\n\nCommunity Board Office – Conference Room \n1 Centre Street\, 2202A-North \nNew York\, NY 10007 \nJoin Remote Meeting \nCommittee Meeting Agendas \n 
URL:https://manhattancb1.cityofnewyork.us/event/transportation-street-activity-permits-committee-6/
LOCATION:https://live.mcb1.nyc
END:VEVENT
BEGIN:VEVENT
DTSTART;TZID=America/New_York:20250225T180000
DTEND;TZID=America/New_York:20250225T210000
DTSTAMP:20260419T104132
CREATED:20250211T213211Z
LAST-MODIFIED:20250211T213351Z
UID:10000070-1740506400-1740517200@manhattancb1.cityofnewyork.us
SUMMARY:February CB 1’s Monthly Board Meeting
DESCRIPTION:We have returned back to in-person meetings; the public is encouraged to join remotely due to acute capacity constraints. \nIn Person Location\n\nManhattan Borough Presidents Office \n1 Centre Street\, 19th Floor – Southside \nNew York\, NY 10007 \nJoin Remote Meeting \nFull Board Meeting Agendas \n \n\n 
URL:https://manhattancb1.cityofnewyork.us/event/february-cb-1s-monthly-board-meeting/
LOCATION:Community Board Office – Conference Room\, 1 Centre Street\, 2202A-North\, New York\, NY\, 10007\, United States
END:VEVENT
BEGIN:VEVENT
DTSTART;TZID=America/New_York:20250225T173000
DTEND;TZID=America/New_York:20250225T180000
DTSTAMP:20260419T104132
CREATED:20260212T194920Z
LAST-MODIFIED:20260212T194920Z
UID:10000144-1740504600-1740506400@manhattancb1.cityofnewyork.us
SUMMARY:Community Board 101
DESCRIPTION:We have returned back to in-person meetings; the public is encouraged to join remotely due to acute capacity constraints. \nIn Person Location\n\nManhattan Borough Presidents Office \n1 Centre Street\, 19th Floor – Southside \nNew York\, NY 10007 \nJoin Remote Meeting \n \n\n \n\n 
URL:https://manhattancb1.cityofnewyork.us/event/community-board-101/
LOCATION:Community Board Office – Conference Room\, 1 Centre Street\, 2202A-North\, New York\, NY\, 10007\, United States
END:VEVENT
BEGIN:VEVENT
DTSTART;TZID=America/New_York:20250224T180000
DTEND;TZID=America/New_York:20250224T200000
DTSTAMP:20260419T104132
CREATED:20250211T213114Z
LAST-MODIFIED:20250211T213805Z
UID:10000069-1740420000-1740427200@manhattancb1.cityofnewyork.us
SUMMARY:Executive Committee
DESCRIPTION:We have returned back to in-person meetings; the public is encouraged to join remotely due to acute capacity constraints. \nIn Person Location\n\nCommunity Board Office – Conference Room \n1 Centre Street\, 2202A-North \nNew York\, NY 10007 \nJoin Remote Meeting \nCommittee Meeting Agendas \n 
URL:https://manhattancb1.cityofnewyork.us/event/executive-committee-4/
LOCATION:https://live.mcb1.nyc
END:VEVENT
BEGIN:VEVENT
DTSTART;TZID=America/New_York:20250220T180000
DTEND;TZID=America/New_York:20250220T200000
DTSTAMP:20260419T104132
CREATED:20250211T213012Z
LAST-MODIFIED:20250211T213750Z
UID:10000068-1740074400-1740081600@manhattancb1.cityofnewyork.us
SUMMARY:Environmental Protection Committee
DESCRIPTION:We have returned back to in-person meetings; the public is encouraged to join remotely due to acute capacity constraints. \nIn Person Location\n\nCommunity Board Office – Conference Room \n1 Centre Street\, 2202A-North \nNew York\, NY 10007 \nJoin Remote Meeting \nCommittee Meeting Agendas \n 
URL:https://manhattancb1.cityofnewyork.us/event/environmental-protection-committee-5/
LOCATION:https://live.mcb1.nyc
END:VEVENT
BEGIN:VEVENT
DTSTART;TZID=America/New_York:20250219T180000
DTEND;TZID=America/New_York:20250219T200000
DTSTAMP:20260419T104132
CREATED:20250211T212922Z
LAST-MODIFIED:20250211T213737Z
UID:10000067-1739988000-1739995200@manhattancb1.cityofnewyork.us
SUMMARY:Quality of Life\, Health\, Housing & Human Services  Committee
DESCRIPTION:We have returned back to in-person meetings; the public is encouraged to join remotely due to acute capacity constraints. \nIn Person Location\n\nCommunity Board Office – Conference Room \n1 Centre Street\, 2202A-North \nNew York\, NY 10007 \nJoin Remote Meeting \nCommittee Meeting Agendas \n 
URL:https://manhattancb1.cityofnewyork.us/event/quality-of-life-health-housing-human-services-committe/
LOCATION:https://live.mcb1.nyc
END:VEVENT
BEGIN:VEVENT
DTSTART;TZID=America/New_York:20250218T180000
DTEND;TZID=America/New_York:20250218T210000
DTSTAMP:20260419T104132
CREATED:20250220T174427Z
LAST-MODIFIED:20250220T174427Z
UID:10000080-1739901600-1739912400@manhattancb1.cityofnewyork.us
SUMMARY:Waterfront\, Parks & Cultural Committee
DESCRIPTION:We have returned back to in-person meetings; the public is encouraged to join remotely due to acute capacity constraints. \nIn Person Location\n\nCommunity Board Office – Conference Room \n1 Centre Street\, 2202A-North \nNew York\, NY 10007 \nJoin Remote Meeting \nCommittee Meeting Agendas \n 
URL:https://manhattancb1.cityofnewyork.us/event/waterfront-parks-cultural-committee-6/
LOCATION:https://live.mcb1.nyc
END:VEVENT
BEGIN:VEVENT
DTSTART;VALUE=DATE:20250217
DTEND;VALUE=DATE:20250218
DTSTAMP:20260419T104132
CREATED:20250211T212721Z
LAST-MODIFIED:20250211T212721Z
UID:10000065-1739750400-1739836799@manhattancb1.cityofnewyork.us
SUMMARY:Office Closed – Presidents Day
DESCRIPTION:
URL:https://manhattancb1.cityofnewyork.us/event/office-closed-presidents-day/
LOCATION:
END:VEVENT
BEGIN:VEVENT
DTSTART;TZID=America/New_York:20250213T180000
DTEND;TZID=America/New_York:20250213T200000
DTSTAMP:20260419T104132
CREATED:20250211T212104Z
LAST-MODIFIED:20250211T213704Z
UID:10000064-1739469600-1739476800@manhattancb1.cityofnewyork.us
SUMMARY:Landmarks & Preservation Committee
DESCRIPTION:We have returned back to in-person meetings; the public is encouraged to join remotely due to acute capacity constraints. \nIn Person Location\n\nCommunity Board Office – Conference Room \n1 Centre Street\, 2202A-North \nNew York\, NY 10007 \nJoin Remote Meeting \nCommittee Meeting Agendas \n 
URL:https://manhattancb1.cityofnewyork.us/event/landmarks-preservation-committee-5/
LOCATION:https://live.mcb1.nyc
END:VEVENT
BEGIN:VEVENT
DTSTART;TZID=America/New_York:20250212T180000
DTEND;TZID=America/New_York:20250212T200000
DTSTAMP:20260419T104132
CREATED:20250211T212020Z
LAST-MODIFIED:20250211T213650Z
UID:10000063-1739383200-1739390400@manhattancb1.cityofnewyork.us
SUMMARY:Licensing & Permits Committee
DESCRIPTION:We have returned back to in-person meetings; the public is encouraged to join remotely due to acute capacity constraints. \nIn Person Location\n\nCommunity Board Office – Conference Room \n1 Centre Street\, 2202A-North \nNew York\, NY 10007 \nJoin Remote Meeting \nCommittee Meeting Agendas \n 
URL:https://manhattancb1.cityofnewyork.us/event/licensing-permits-committee-5/
LOCATION:https://live.mcb1.nyc
END:VEVENT
BEGIN:VEVENT
DTSTART;TZID=America/New_York:20250211T180000
DTEND;TZID=America/New_York:20250211T200000
DTSTAMP:20260419T104132
CREATED:20250211T211536Z
LAST-MODIFIED:20250211T213621Z
UID:10000062-1739296800-1739304000@manhattancb1.cityofnewyork.us
SUMMARY:Youth & Education Committee (CANCELLED)
DESCRIPTION:We have returned back to in-person meetings; the public is encouraged to join remotely due to acute capacity constraints. \nIn Person Location\n\nCommunity Board Office – Conference Room \n1 Centre Street\, 2202A-North \nNew York\, NY 10007 \nJoin Remote Meeting \nCommittee Meeting Agendas \n 
URL:https://manhattancb1.cityofnewyork.us/event/youth-education-committee-5/
LOCATION:https://live.mcb1.nyc
END:VEVENT
BEGIN:VEVENT
DTSTART;TZID=America/New_York:20250210T180000
DTEND;TZID=America/New_York:20250210T200000
DTSTAMP:20260419T104132
CREATED:20250211T211431Z
LAST-MODIFIED:20250211T213604Z
UID:10000061-1739210400-1739217600@manhattancb1.cityofnewyork.us
SUMMARY:Land Use\, Zoning & Economic Development Committee
DESCRIPTION:We have returned back to in-person meetings; the public is encouraged to join remotely due to acute capacity constraints. \nIn Person Location\n\nCommunity Board Office – Conference Room \n1 Centre Street\, 2202A-North \nNew York\, NY 10007 \nJoin Remote Meeting \nCommittee Meeting Agendas \n 
URL:https://manhattancb1.cityofnewyork.us/event/land-use-zoning-economic-development-committee-5/
LOCATION:https://live.mcb1.nyc
END:VEVENT
BEGIN:VEVENT
DTSTART;TZID=America/New_York:20250206T180000
DTEND;TZID=America/New_York:20250206T200000
DTSTAMP:20260419T104132
CREATED:20250211T210223Z
LAST-MODIFIED:20250211T213549Z
UID:10000060-1738864800-1738872000@manhattancb1.cityofnewyork.us
SUMMARY:Battery Park City Committee
DESCRIPTION:We have returned back to in-person meetings; the public is encouraged to join remotely due to acute capacity constraints. \nIn Person Location\n\nCommunity Board Office – Conference Room \n1 Centre Street\, 2202A-North \nNew York\, NY 10007 \nJoin Remote Meeting \nCommittee Meeting Agendas \n 
URL:https://manhattancb1.cityofnewyork.us/event/battery-park-city-committee-4/
LOCATION:https://live.mcb1.nyc
END:VEVENT
BEGIN:VEVENT
DTSTART;TZID=America/New_York:20250205T180000
DTEND;TZID=America/New_York:20250205T200000
DTSTAMP:20260419T104132
CREATED:20250211T204917Z
LAST-MODIFIED:20250211T213530Z
UID:10000059-1738778400-1738785600@manhattancb1.cityofnewyork.us
SUMMARY:Transportation & Street Activity Permits  Committee
DESCRIPTION:We have returned back to in-person meetings; the public is encouraged to join remotely due to acute capacity constraints. \nIn Person Location\n\nCommunity Board Office – Conference Room \n1 Centre Street\, 2202A-North \nNew York\, NY 10007 \nJoin Remote Meeting \nCommittee Meeting Agendas \n 
URL:https://manhattancb1.cityofnewyork.us/event/transportation-street-activity-permits-committee-5/
LOCATION:https://live.mcb1.nyc
END:VEVENT
BEGIN:VEVENT
DTSTART;TZID=America/New_York:20250128T180000
DTEND;TZID=America/New_York:20250128T210000
DTSTAMP:20260419T104132
CREATED:20250113T155245Z
LAST-MODIFIED:20250211T213430Z
UID:10000056-1738087200-1738098000@manhattancb1.cityofnewyork.us
SUMMARY:January CB 1’s Monthly Board Meeting
DESCRIPTION:We have returned back to in-person meetings; the public is encouraged to join remotely due to acute capacity constraints. \nIn Person Location\n\nManhattan Borough President’s Office \n1 Centre Street\, 19th Floor Southside \nNew York\, NY 10007 \nJoin Remote Meeting \nFull Board Meeting Agendas \n \n\n 
URL:https://manhattancb1.cityofnewyork.us/event/january-cb-1s-monthly-board-meeting/
LOCATION:Community Board Office – Conference Room\, 1 Centre Street\, 2202A-North\, New York\, NY\, 10007\, United States
END:VEVENT
BEGIN:VEVENT
DTSTART;TZID=America/New_York:20250123T180000
DTEND;TZID=America/New_York:20250123T210000
DTSTAMP:20260419T104132
CREATED:20250113T155215Z
LAST-MODIFIED:20250114T214709Z
UID:10000055-1737655200-1737666000@manhattancb1.cityofnewyork.us
SUMMARY:Executive Committee
DESCRIPTION:We have returned back to in-person meetings; the public is encouraged to join remotely due to acute capacity constraints. \nIn Person Location\n\nCommunity Board Office – Conference Room \n1 Centre Street\, 2202A-North \nNew York\, NY 10007 \nJoin Remote Meeting \nCommittee Meeting Agendas \n \n\n 
URL:https://manhattancb1.cityofnewyork.us/event/executive-committee-3/
LOCATION:Community Board Office – Conference Room\, 1 Centre Street\, 2202A-North\, New York\, NY\, 10007\, United States
END:VEVENT
BEGIN:VEVENT
DTSTART;TZID=America/New_York:20250121T180000
DTEND;TZID=America/New_York:20250121T210000
DTSTAMP:20260419T104132
CREATED:20250113T155151Z
LAST-MODIFIED:20250115T171342Z
UID:10000054-1737482400-1737493200@manhattancb1.cityofnewyork.us
SUMMARY:Waterfront\, Parks & Cultural Committee
DESCRIPTION:We have returned back to in-person meetings; the public is encouraged to join remotely due to acute capacity constraints. \nIn Person Location\n\nCommunity Board Office – Conference Room \n1 Centre Street\, 2202A-North \nNew York\, NY 10007 \nJoin Remote Meeting \nCommittee Meeting Agendas \n \n\n 
URL:https://manhattancb1.cityofnewyork.us/event/waterfront-parks-cultural-committee-4/
LOCATION:Community Board Office – Conference Room\, 1 Centre Street\, 2202A-North\, New York\, NY\, 10007\, United States
END:VEVENT
BEGIN:VEVENT
DTSTART;VALUE=DATE:20250120
DTEND;VALUE=DATE:20250121
DTSTAMP:20260419T104132
CREATED:20250113T155117Z
LAST-MODIFIED:20250113T170758Z
UID:10000052-1737331200-1737417599@manhattancb1.cityofnewyork.us
SUMMARY:Office Closed - Martin Luther King Jr. Day
DESCRIPTION: \n\n 
URL:https://manhattancb1.cityofnewyork.us/event/office-closed-martin-luther-king-jr-day/
LOCATION:Community Board Office – Conference Room\, 1 Centre Street\, 2202A-North\, New York\, NY\, 10007\, United States
END:VEVENT
BEGIN:VEVENT
DTSTART;TZID=America/New_York:20250117T183000
DTEND;TZID=America/New_York:20250117T200000
DTSTAMP:20260419T104132
CREATED:20250116T192855Z
LAST-MODIFIED:20250116T192855Z
UID:10000057-1737138600-1737144000@manhattancb1.cityofnewyork.us
SUMMARY:Testing event 1
DESCRIPTION:
URL:https://manhattancb1.cityofnewyork.us/event/testing-event-1-2/
LOCATION:https://live.mcb1.nyc/
END:VEVENT
BEGIN:VEVENT
DTSTART;TZID=America/New_York:20250116T180000
DTEND;TZID=America/New_York:20250116T210000
DTSTAMP:20260419T104132
CREATED:20250113T155035Z
LAST-MODIFIED:20250116T192714Z
UID:10000051-1737050400-1737061200@manhattancb1.cityofnewyork.us
SUMMARY:Environmental Protection Committee
DESCRIPTION:We have returned back to in-person meetings; the public is encouraged to join remotely due to acute capacity constraints. \nIn Person Location\n\nCommunity Board Office – Conference Room \n1 Centre Street\, 2202A-North \nNew York\, NY 10007 \nJoin Remote Meeting \nCommittee Meeting Agendas \n \n\n 
URL:https://manhattancb1.cityofnewyork.us/event/environmental-protection-committee-4/
LOCATION:Community Board Office – Conference Room\, 1 Centre Street\, 2202A-North\, New York\, NY\, 10007\, United States
END:VEVENT
BEGIN:VEVENT
DTSTART;TZID=America/New_York:20250115T180000
DTEND;TZID=America/New_York:20250115T210000
DTSTAMP:20260419T104132
CREATED:20250113T155013Z
LAST-MODIFIED:20250115T171524Z
UID:10000050-1736964000-1736974800@manhattancb1.cityofnewyork.us
SUMMARY:Quality of Life\, Health\, Housing & Human Services  Committee
DESCRIPTION:We have returned back to in-person meetings; the public is encouraged to join remotely due to acute capacity constraints. \nIn Person Location\n\nCommunity Board Office – Conference Room \n1 Centre Street\, 2202A-North \nNew York\, NY 10007 \nJoin Remote Meeting \nCommittee Meeting Agendas \n \n\n 
URL:https://manhattancb1.cityofnewyork.us/event/quality-of-life-health-housing-human-services-committee-4/
LOCATION:Community Board Office – Conference Room\, 1 Centre Street\, 2202A-North\, New York\, NY\, 10007\, United States
END:VEVENT
BEGIN:VEVENT
DTSTART;TZID=America/New_York:20250114T180000
DTEND;TZID=America/New_York:20250114T210000
DTSTAMP:20260419T104132
CREATED:20250113T154949Z
LAST-MODIFIED:20250115T171552Z
UID:10000049-1736877600-1736888400@manhattancb1.cityofnewyork.us
SUMMARY:Youth & Education Committee
DESCRIPTION:We have returned back to in-person meetings; the public is encouraged to join remotely due to acute capacity constraints. \nIn Person Location\n\nCommunity Board Office – Conference Room \n1 Centre Street\, 2202A-North \nNew York\, NY 10007 \nJoin Remote Meeting \nCommittee Meeting Agendas \n \n\n 
URL:https://manhattancb1.cityofnewyork.us/event/youth-education-committee-4/
LOCATION:Community Board Office – Conference Room\, 1 Centre Street\, 2202A-North\, New York\, NY\, 10007\, United States
END:VEVENT
END:VCALENDAR