BEGIN:VCALENDAR
VERSION:2.0
PRODID:-//Manhattan Community Board 1 - ECPv6.15.20//NONSGML v1.0//EN
CALSCALE:GREGORIAN
METHOD:PUBLISH
X-WR-CALNAME:Manhattan Community Board 1
X-ORIGINAL-URL:https://manhattancb1.cityofnewyork.us
X-WR-CALDESC:Events for Manhattan Community Board 1
REFRESH-INTERVAL;VALUE=DURATION:PT1H
X-Robots-Tag:noindex
X-PUBLISHED-TTL:PT1H
BEGIN:VTIMEZONE
TZID:America/New_York
BEGIN:DAYLIGHT
TZOFFSETFROM:-0500
TZOFFSETTO:-0400
TZNAME:EDT
DTSTART:20250309T070000
END:DAYLIGHT
BEGIN:STANDARD
TZOFFSETFROM:-0400
TZOFFSETTO:-0500
TZNAME:EST
DTSTART:20251102T060000
END:STANDARD
BEGIN:DAYLIGHT
TZOFFSETFROM:-0500
TZOFFSETTO:-0400
TZNAME:EDT
DTSTART:20260308T070000
END:DAYLIGHT
BEGIN:STANDARD
TZOFFSETFROM:-0400
TZOFFSETTO:-0500
TZNAME:EST
DTSTART:20261101T060000
END:STANDARD
BEGIN:DAYLIGHT
TZOFFSETFROM:-0500
TZOFFSETTO:-0400
TZNAME:EDT
DTSTART:20270314T070000
END:DAYLIGHT
BEGIN:STANDARD
TZOFFSETFROM:-0400
TZOFFSETTO:-0500
TZNAME:EST
DTSTART:20271107T060000
END:STANDARD
END:VTIMEZONE
BEGIN:VEVENT
DTSTART;TZID=America/New_York:20260413T180000
DTEND;TZID=America/New_York:20260413T210000
DTSTAMP:20260421T112946
CREATED:20260209T183241Z
LAST-MODIFIED:20260410T205348Z
UID:10000112-1776103200-1776114000@manhattancb1.cityofnewyork.us
SUMMARY:Land Use\, Zoning & Economic Development Committee
DESCRIPTION:We have returned back to in-person meetings; the public is encouraged to join remotely due to acute capacity constraints. \nIn Person Location\n\nCommunity Board Office – Conference Room \n1 Centre Street\, 2202A-North \nNew York\, NY 10007 \nJoin Remote Meeting \nCommittee Meeting Agendas \n\n\n 	Small Business Data Briefing and Resources – Maggie Paruta\, Economic Development Specialist\, Manhattan Chamber of Commerce \n 	Borough Based Jail Manhattan – Preliminary Design Review – Prior to Public Design Commission (PDC) submission\, Lauren Micir\, Public Engagement Manager; Aman Krishan Autumn Visconti and Jeff Goodale\, HOK – Presentation and resolution\n 	Fund for the City of NY\, CB1 Fellow Owen Elton\, CB1 Land Use Mapping Project – Review \n 	65 Franklin Street – Landmark TDR + Authorization 45-Day Referral filed April 10 – Discussion on Considerations for Updated Resolution
URL:https://manhattancb1.cityofnewyork.us/event/land-use-zoning-economic-development-committee-9/
LOCATION:https://live.mcb1.nyc
END:VEVENT
END:VCALENDAR