BEGIN:VCALENDAR
VERSION:2.0
PRODID:-//Manhattan Community Board 1 - ECPv6.15.20//NONSGML v1.0//EN
CALSCALE:GREGORIAN
METHOD:PUBLISH
X-WR-CALNAME:Manhattan Community Board 1
X-ORIGINAL-URL:https://manhattancb1.cityofnewyork.us
X-WR-CALDESC:Events for Manhattan Community Board 1
REFRESH-INTERVAL;VALUE=DURATION:PT1H
X-Robots-Tag:noindex
X-PUBLISHED-TTL:PT1H
BEGIN:VTIMEZONE
TZID:America/New_York
BEGIN:DAYLIGHT
TZOFFSETFROM:-0500
TZOFFSETTO:-0400
TZNAME:EDT
DTSTART:20250309T070000
END:DAYLIGHT
BEGIN:STANDARD
TZOFFSETFROM:-0400
TZOFFSETTO:-0500
TZNAME:EST
DTSTART:20251102T060000
END:STANDARD
BEGIN:DAYLIGHT
TZOFFSETFROM:-0500
TZOFFSETTO:-0400
TZNAME:EDT
DTSTART:20260308T070000
END:DAYLIGHT
BEGIN:STANDARD
TZOFFSETFROM:-0400
TZOFFSETTO:-0500
TZNAME:EST
DTSTART:20261101T060000
END:STANDARD
BEGIN:DAYLIGHT
TZOFFSETFROM:-0500
TZOFFSETTO:-0400
TZNAME:EDT
DTSTART:20270314T070000
END:DAYLIGHT
BEGIN:STANDARD
TZOFFSETFROM:-0400
TZOFFSETTO:-0500
TZNAME:EST
DTSTART:20271107T060000
END:STANDARD
END:VTIMEZONE
BEGIN:VEVENT
DTSTART;TZID=America/New_York:20260408T180000
DTEND;TZID=America/New_York:20260408T210000
DTSTAMP:20260420T024652
CREATED:20260209T183113Z
LAST-MODIFIED:20260407T165524Z
UID:10000110-1775671200-1775682000@manhattancb1.cityofnewyork.us
SUMMARY:Licensing & Permits Committee
DESCRIPTION:We have returned back to in-person meetings; the public is encouraged to join remotely due to acute capacity constraints. \nIn Person Location\n\nCommunity Board Office – Conference Room \n1 Centre Street\, 2202A-North \nNew York\, NY 10007 \nJoin Remote Meeting \nCommittee Meeting Agendas \nOutdoor Dining\n\n 	66 Pearl Street\, application for roadway cafe for 66 Pearl Street LLC dba Lucky Tiger NYC – Resolution\n\nTribeca area\n\n 	200 Chambers Street\, new application for Carnegie Diner 200 LLC dba Carnegie Diner for full liquor license – Resolution\n 	75 Murray Street\, application for removal and temporary retail permit for Italia Like Locals Inc dba Same for wine\, beer and cider license – Resolution\n 	431 Washington Street\, new application and temporary retail permit for Sebadoh Inc dba Anotheroom for full liquor license – Resolution\n\nThe following notices have been received for renewal \n\n 	2 Avenue of the Americas\, Tribeca Grand Hotel Inc and Harttz Hotel Services Inc dba The Roxy Hotel\, Paul’s Cocktail Lounge for full liquor license\n 	66 West Broadway\, Dellasnyc LLC dba Dellas for wine\, beer & cider license\n 	22 Warren Street\, Brick NYC Restaurant LLC dba Morsi for full liquor license\n 	77 Warren Street\, Tribeca FB Project LLC dba WarrenPeace for full liquor license\n\nFinancial District area\n\n 	1 Fulton Street\, application for alteration to add a customer bar and a service bar\, relocate an existing service bar and a customer bar for HHC Fulton Retail LLC\, HHC Lawn Games LLC & The Lawn Club NYC LLC dba Bar Snack /The Lawn Club/Snack Out for full liquor license – Resolution\n 	100 Church Street\, unit 100\, entrance on 63 Barclay street\, application for a corporate change for IFNOTNOW LLC dba C Tribeca for full liquor license – Resolution\n 	100 Church Street\, unit 2\, application for a corporate change for IFNOTNOW LLC dba New York Vintners for full liquor license – Resolution\n\nThe following notices have been received for renewal \n\n 	8 Stone Street\, Antinori Restaurant Inc & Pyramid NYC Management LLC dba Doubletree Hotel NYC & Antica Ristorante for full liquor license\n 	11 Wall Street\, Compass LCS\, LLC for full liquor license\n 	45 John Street\, Suited Curation LLC dba Suited for wine\, beer & cider license\n 	28 Liberty Street\, 28 Liberty F& B Management LLC and Summit Glory Property LLC dba Manhatta; Bayroom for full liquor license\n 	120 Water Street\, Indigo Water Street LLC\, KS Hospitality LES LLC dba Hotel Indigo for full liquor license\n\nBattery Park City area\n\n 	Agenda to be determined\n\nThe following notices have been received for renewal \n\n 	225 Liberty Street store 242\, Downtown Tacos LLC dba Dos Toros for beer & wine\n\nGovernor’s Island area\n\n 	146 Carder Road\, new application and temporary retail permit for Six Coats Smorgasburg LLC for full liquor license – Resolution\n\nThe following notices have been received for renewal \n\n 	928 Craig Road\, Misipasta LLC for full liquor license\n\nSeaport/Civic Center area\n\n 	170 John Street aka 87 South Street\, new application and temporary permit for Old Mates 170 John NY LLC for wine\, beer & cider license – Resolution\n\nThe following notices have been received for renewal \n\n 	96 Lafayette Street\, AVS International Retail LLC dba Live Axe for full liquor license\n 	Plaza adjacent to 1 Centre Street\, The Sanctuary Courts LLC for full liquor license\n 	1 Pace Plaza\, Compass LCS\, LLC for full liquor license
URL:https://manhattancb1.cityofnewyork.us/event/licensing-permits-committee-9/
LOCATION:https://live.mcb1.nyc
END:VEVENT
END:VCALENDAR